BEGIN:VCALENDAR
VERSION:2.0
PRODID:-//Admisión - ECPv6.2.3.1//NONSGML v1.0//EN
CALSCALE:GREGORIAN
METHOD:PUBLISH
X-WR-CALNAME:Admisión
X-ORIGINAL-URL:https://admision.udec.cl
X-WR-CALDESC:Eventos para Admisión
REFRESH-INTERVAL;VALUE=DURATION:PT1H
X-Robots-Tag:noindex
X-PUBLISHED-TTL:PT1H
BEGIN:VTIMEZONE
TZID:America/Santiago
BEGIN:STANDARD
TZOFFSETFROM:-0300
TZOFFSETTO:-0400
TZNAME:-04
DTSTART:20260405T030000
END:STANDARD
BEGIN:DAYLIGHT
TZOFFSETFROM:-0400
TZOFFSETTO:-0300
TZNAME:-03
DTSTART:20260906T040000
END:DAYLIGHT
END:VTIMEZONE
BEGIN:VEVENT
DTSTART;VALUE=DATE:20260212
DTEND;VALUE=DATE:20260313
DTSTAMP:20260424T122608
CREATED:20260123T191731Z
LAST-MODIFIED:20260123T191731Z
UID:6390-1770854400-1773359999@admision.udec.cl
SUMMARY:Segundo Periodo de Postulación FUAS 2026
DESCRIPTION:Segundo periodo de postulación FUAS a Gratuidad\, Becas y Créditos\, desde el jueves 12 de febrero al jueves 12 de marzo hasta las 14:00 horas. \nMás información en www.fuas.cl
URL:https://admision.udec.cl/evento/segundo-periodo-de-postulacion-fuas-2026/
ATTACH;FMTTYPE=image/jpeg:https://admision.udec.cl/wp-content/uploads/2024/10/UdeC-embanderada-05.jpg
END:VEVENT
BEGIN:VEVENT
DTSTART;VALUE=DATE:20260302
DTEND;VALUE=DATE:20260307
DTSTAMP:20260424T122608
CREATED:20260122T190234Z
LAST-MODIFIED:20260122T191302Z
UID:6382-1772409600-1772841599@admision.udec.cl
SUMMARY:Período de vinculación a la vida universitaria
DESCRIPTION:El período de “Vinculación a la Vida Universitaria” para estudiantes que ingresen a primer año\, como también el periodo de inscripción de asignaturas correspondiente al primer semestre para estudiantes de primer año admisión 2026 y situaciones de cursos superiores que no pudieron inscribir en el mes de enero\, se desarrollará entre el 02 y 06 de marzo de 2026. \nEl inicio de los Cursos de Nivelación y la apertura de Aulas Remediales para estudiantes que ingresen a primer año\, será el 02 de marzo de 2026.
URL:https://admision.udec.cl/evento/periodo-de-vinculacion-a-la-vida-universitaria/
ATTACH;FMTTYPE=image/jpeg:https://admision.udec.cl/wp-content/uploads/2024/08/fondo_3_-1-scaled.jpg
END:VEVENT
BEGIN:VEVENT
DTSTART;VALUE=DATE:20260302
DTEND;VALUE=DATE:20260314
DTSTAMP:20260424T122608
CREATED:20251223T160058Z
LAST-MODIFIED:20260129T141038Z
UID:6349-1772409600-1773446399@admision.udec.cl
SUMMARY:Postulación a Becas UdeC para estudiantes afectadas/os por incendios
DESCRIPTION:La Universidad de Concepción\, entre los programas de beneficios para estudiantes\, otorga becas de estudio\, sin embargo\, la postulación no garantiza la asignación del beneficio. \nPara postular\, es necesario enviar el formulario y la documentación que corresponda al correo bienestar@udec.cl\, según se indica en la descripción de cada beca. La información completa de los Beneficios UdeC se encuentra disponible en https://admision.udec.cl/beneficios/ \n\nBeca Enrique Molina Garmendia\nBeca de Residencia Doctor Virginio Gómez\nBeca Filidor Gaete Monsalve\nBeca de Excelencia Musical Wilfried Junge\n\nPlazo de postulación: Desde el martes 2 hasta el 13 de marzo 2026. \n \n  \n 
URL:https://admision.udec.cl/evento/postulacion-a-becas-de-la-universidad-de-concepcion/
ATTACH;FMTTYPE=image/jpeg:https://admision.udec.cl/wp-content/uploads/2024/10/UdeC-embanderada-35.jpg
END:VEVENT
BEGIN:VEVENT
DTSTART;TZID=America/Santiago:20260304T090000
DTEND;TZID=America/Santiago:20260317T130000
DTSTAMP:20260424T122608
CREATED:20260128T182332Z
LAST-MODIFIED:20260128T182332Z
UID:6394-1772614800-1773752400@admision.udec.cl
SUMMARY:Inscripción PAES de Invierno
DESCRIPTION:Desde el 04 de marzo a las 9:00 horas hasta el 17 de marzo a las 13:00 horas estará abierta la inscripción para rendir la Prueba de Acceso a la Educación Superior (PAES) de invierno. \nMás información en demre.cl
URL:https://admision.udec.cl/evento/inscripcion-paes-de-invierno/
ATTACH;FMTTYPE=image/jpeg:https://admision.udec.cl/wp-content/uploads/2024/08/jcr_content.jpg
END:VEVENT
BEGIN:VEVENT
DTSTART;VALUE=DATE:20260306
DTEND;VALUE=DATE:20260307
DTSTAMP:20260424T122608
CREATED:20260129T141438Z
LAST-MODIFIED:20260129T142423Z
UID:6398-1772755200-1772841599@admision.udec.cl
SUMMARY:Matrícula para estudiantes damnificados de zonas afectadas por incendios forestales
DESCRIPTION:Considerando la situación de catástrofe que enfrentan las y los postulantes y sus familias en las regiones del Biobío y Ñuble\, y siguiendo los lineamientos del Comité Técnico de Acceso del Subsistema Universitario\, la Universidad de Concepción habilitará una vía excepcional de matrícula para estudiantes damnificados de las comunas afectadas\, la que permitirá a aquellas/os postulantes seleccionadas/os\, y a quienes resulten convocadas/os al correr las listas de espera\, matricularse hasta el viernes 6 de marzo de 2026.  \nEsta medida busca entregar tranquilidad a las personas que resultaron seleccionadas y que fueron afectadas por la catástrofe\, asegurando que no perderán su cupo producto de las dificultades derivadas de los incendios. Para acceder a esta modalidad excepcional\, las y los postulantes deberán acreditar su condición de persona afectada por esta catástrofe mediante la presentación de su Ficha Básica de Emergencia (FIBE) del Ministerio de Desarrollo Social y Familia\, enviando el documento a admision@udec.cl    \nEl correo debe contener los siguientes antecedentes:  \n\nNombre completo \n\n\nNúmero de RUN \n\n\nCarrera en la que fue seleccionado/a \n\n\nNúmero de teléfono de contacto \n\n\nFicha Básica de Emergencia (FIBE) \n\n  \nSi tiene alguna duda respecto de este proceso\, escriba a admision@udec.cl  
URL:https://admision.udec.cl/evento/matricula-para-estudiantes-damnificados-de-zonas-afectadas-por-incendios-forestales/
ATTACH;FMTTYPE=image/jpeg:https://admision.udec.cl/wp-content/uploads/2026/01/Proceso-de-matriculas-2026-4-scaled.jpg
END:VEVENT
BEGIN:VEVENT
DTSTART;VALUE=DATE:20260309
DTEND;VALUE=DATE:20260310
DTSTAMP:20260424T122608
CREATED:20260109T182840Z
LAST-MODIFIED:20260122T190415Z
UID:6369-1773014400-1773100799@admision.udec.cl
SUMMARY:Inicio de clases en la UdeC
DESCRIPTION:Las clases del primer semestre 2026 en la Universidad de Concepción se iniciarán el lunes 9 de marzo para todos/as los/las estudiantes. \nLas clases del primer semestre deberán estar terminadas el 10 de julio\, para las asignaturas de régimen semestral\, y finalizarán el 24 de julio para las asignaturas de régimen anual.
URL:https://admision.udec.cl/evento/inicio-de-clases-en-la-udec/
ATTACH;FMTTYPE=image/jpeg:https://admision.udec.cl/wp-content/uploads/2024/10/Vida-diaria-en-UdeC-46.jpg
END:VEVENT
BEGIN:VEVENT
DTSTART;VALUE=DATE:20260310
DTEND;VALUE=DATE:20260311
DTSTAMP:20260424T122608
CREATED:20260123T190939Z
LAST-MODIFIED:20260123T190951Z
UID:6388-1773100800-1773187199@admision.udec.cl
SUMMARY:Resultados Asignación Primer Periodo FUAS 2026
DESCRIPTION:Los resultados de asignación del primer periodo FUAS 2026 se publicarán a las 13 horas en https://resultados.beneficiosestudiantiles.cl \n  \n 
URL:https://admision.udec.cl/evento/resultados-asignacion-primer-periodo-fuas-2026/
ATTACH;FMTTYPE=image/jpeg:https://admision.udec.cl/wp-content/uploads/2024/10/UdeC-embanderada-35.jpg
END:VEVENT
BEGIN:VEVENT
DTSTART;TZID=America/Santiago:20260310T120000
DTEND;TZID=America/Santiago:20260323T233000
DTSTAMP:20260424T122608
CREATED:20260123T191226Z
LAST-MODIFIED:20260123T191453Z
UID:6389-1773144000-1774308600@admision.udec.cl
SUMMARY:Apelación a Resultados Asignación Primer Periodo FUAS 2026
DESCRIPTION:Primer periodo de apelación a los primeros resultados de asignación a gratuidad\, becas y créditos estará disponible desde el 10 de marzo hasta las 23:59 del jueves 23 de marzo de 2026. Durante este periodo\, los estudiantes podrán apelar a una o más causales. \nMás información en el siguiente link https://portal.beneficiosestudiantiles.cl/guia-paso-paso-postulacion
URL:https://admision.udec.cl/evento/apelacion-a-resultados-asignacion-primer-periodo-fuas-2026/
ATTACH;FMTTYPE=image/jpeg:https://admision.udec.cl/wp-content/uploads/2024/10/Vida-diaria-en-UdeC-08.jpg
END:VEVENT
BEGIN:VEVENT
DTSTART;TZID=America/Santiago:20260601T090000
DTEND;TZID=America/Santiago:20260722T130000
DTSTAMP:20260424T122608
CREATED:20260406T201555Z
LAST-MODIFIED:20260406T201555Z
UID:6445-1780304400-1784725200@admision.udec.cl
SUMMARY:Inscripción PAES Regular
DESCRIPTION:Desde el 01 de junio a las 9:00 horas hasta el 22 de julio a las 13:00 horas estará abierta la inscripción para rendir la Prueba de Acceso a la Educación Superior (PAES) Regular \nMás información en demre.cl
URL:https://admision.udec.cl/evento/inscripcion-paes-regular/
ATTACH;FMTTYPE=image/jpeg:https://admision.udec.cl/wp-content/uploads/2024/08/jcr_content.jpg
END:VEVENT
BEGIN:VEVENT
DTSTART;VALUE=DATE:20260615
DTEND;VALUE=DATE:20260618
DTSTAMP:20260424T122608
CREATED:20260128T182620Z
LAST-MODIFIED:20260128T182909Z
UID:6395-1781481600-1781740799@admision.udec.cl
SUMMARY:Rendición PAES de invierno
DESCRIPTION:Los días 15\, 16 y 17 de junio se rendirán las Prueba de Acceso a la Educación Superior (PAES) de invierno. \nMás información en demre.cl
URL:https://admision.udec.cl/evento/rendicion-paes-de-invierno/
ATTACH;FMTTYPE=image/jpeg:https://admision.udec.cl/wp-content/uploads/2024/08/Drastica-disminucion-de-puntajes-nacionales-en-PSU-2020-scaled.jpg
END:VEVENT
BEGIN:VEVENT
DTSTART;VALUE=DATE:20260717
DTEND;VALUE=DATE:20260718
DTSTAMP:20260424T122608
CREATED:20260128T183045Z
LAST-MODIFIED:20260128T183045Z
UID:6396-1784246400-1784332799@admision.udec.cl
SUMMARY:Resultados de Puntajes PAES de Invierno
DESCRIPTION:El 17 de julio se publicarán los resultados de las Pruebas de Acceso a la Educación Superior (PAES) de invierno. \nMás información en demre.cl
URL:https://admision.udec.cl/evento/resultados-de-puntajes-paes-de-invierno-2/
ATTACH;FMTTYPE=image/jpeg:https://admision.udec.cl/wp-content/uploads/2024/08/pag-9-simce-foto-raphael-850x500-1.jpg
END:VEVENT
BEGIN:VEVENT
DTSTART;VALUE=DATE:20261130
DTEND;VALUE=DATE:20261203
DTSTAMP:20260424T122608
CREATED:20260406T201912Z
LAST-MODIFIED:20260406T201912Z
UID:6446-1795996800-1796255999@admision.udec.cl
SUMMARY:Rendición PAES Regular
DESCRIPTION:Los días 30 de noviembre\, 1 y 2 de diciembre se rendirán las Prueba de Acceso a la Educación Superior (PAES) Regular. \nMás información en demre.cl
URL:https://admision.udec.cl/evento/rendicion-paes-regular/
ATTACH;FMTTYPE=image/jpeg:https://admision.udec.cl/wp-content/uploads/2024/08/PRUEBA-DE-TRANSICION-850x500-1.jpeg
END:VEVENT
END:VCALENDAR